BEGIN:VCALENDAR
VERSION:2.0
PRODID:-//Rustic Creek Family Campground - ECPv6.15.20//NONSGML v1.0//EN
CALSCALE:GREGORIAN
METHOD:PUBLISH
X-WR-CALNAME:Rustic Creek Family Campground
X-ORIGINAL-URL:https://rusticcreekfamilycampground.com
X-WR-CALDESC:Events for Rustic Creek Family Campground
REFRESH-INTERVAL;VALUE=DURATION:PT1H
X-Robots-Tag:noindex
X-PUBLISHED-TTL:PT1H
BEGIN:VTIMEZONE
TZID:America/New_York
BEGIN:DAYLIGHT
TZOFFSETFROM:-0500
TZOFFSETTO:-0400
TZNAME:EDT
DTSTART:20250309T070000
END:DAYLIGHT
BEGIN:STANDARD
TZOFFSETFROM:-0400
TZOFFSETTO:-0500
TZNAME:EST
DTSTART:20251102T060000
END:STANDARD
BEGIN:DAYLIGHT
TZOFFSETFROM:-0500
TZOFFSETTO:-0400
TZNAME:EDT
DTSTART:20260308T070000
END:DAYLIGHT
BEGIN:STANDARD
TZOFFSETFROM:-0400
TZOFFSETTO:-0500
TZNAME:EST
DTSTART:20261101T060000
END:STANDARD
BEGIN:DAYLIGHT
TZOFFSETFROM:-0500
TZOFFSETTO:-0400
TZNAME:EDT
DTSTART:20270314T070000
END:DAYLIGHT
BEGIN:STANDARD
TZOFFSETFROM:-0400
TZOFFSETTO:-0500
TZNAME:EST
DTSTART:20271107T060000
END:STANDARD
END:VTIMEZONE
BEGIN:VEVENT
DTSTART;TZID=America/New_York:20260606T140000
DTEND;TZID=America/New_York:20260606T150000
DTSTAMP:20260424T112249
CREATED:20260114T172432Z
LAST-MODIFIED:20260205T192843Z
UID:1604-1780754400-1780758000@rusticcreekfamilycampground.com
SUMMARY:Painting Party with Andrea Recene
DESCRIPTION:Join us for a creative and relaxing Painting Party\, hosted by Andrea Recene! We’ll be painting an adorable turtle scene—perfect for all skill levels.\n Cost: $25.00 per person Location: Pavilion Time: 2:00 PM\nGrab a friend\, unleash your creativity\, and enjoy a fun afternoon of painting!\n More information on sign-ups coming soon!
URL:https://rusticcreekfamilycampground.com/event/painting-party-with-andrea-recene-2/
ATTACH;FMTTYPE=image/jpeg:https://rusticcreekfamilycampground.com/wp-content/uploads/2026/01/painting-party-turtle.jpeg
END:VEVENT
BEGIN:VEVENT
DTSTART;TZID=America/New_York:20260613T140000
DTEND;TZID=America/New_York:20260613T150000
DTSTAMP:20260424T112249
CREATED:20260114T172751Z
LAST-MODIFIED:20260115T143129Z
UID:1606-1781359200-1781362800@rusticcreekfamilycampground.com
SUMMARY:Kids Craft - Hosted by Crystal Best
DESCRIPTION:More info on this event coming soon.
URL:https://rusticcreekfamilycampground.com/event/kids-event-hosted-by-crystal-best/
ATTACH;FMTTYPE=image/png:https://rusticcreekfamilycampground.com/wp-content/uploads/2023/02/RC_Logolg.png
END:VEVENT
BEGIN:VEVENT
DTSTART;TZID=America/New_York:20260619T140000
DTEND;TZID=America/New_York:20260621T120000
DTSTAMP:20260424T112249
CREATED:20260114T173451Z
LAST-MODIFIED:20260114T173534Z
UID:1608-1781877600-1782043200@rusticcreekfamilycampground.com
SUMMARY:Father's Day Weekend
DESCRIPTION:Celebrate the dads\, grandpas\, and father figures in your life with a relaxing and fun-filled Father’s Day Weekend at Rustic Creek Family Campground! \n\nBring the family and enjoy a weekend made for making memories—whether it’s kicking back by the campfire\, spending time outdoors\, or enjoying special activities planned just for the weekend.
URL:https://rusticcreekfamilycampground.com/event/fathers-day-weekend/
ATTACH;FMTTYPE=image/webp:https://rusticcreekfamilycampground.com/wp-content/uploads/2026/01/happy-father-s-day-happy-father-s-day-barbecue-clip-art-isolated-white-117152960.webp
END:VEVENT
BEGIN:VEVENT
DTSTART;TZID=America/New_York:20260620T080000
DTEND;TZID=America/New_York:20260620T120000
DTSTAMP:20260424T112249
CREATED:20260114T174817Z
LAST-MODIFIED:20260114T174817Z
UID:1611-1781942400-1781956800@rusticcreekfamilycampground.com
SUMMARY:Fishing Derby - Hosted by Skrippy
DESCRIPTION:Get ready to cast a line and have some fun at our upcoming Fishing Derby\, proudly hosted by our seasonal guest Skrippy! This is a free event for our campground community and a great way to enjoy the outdoors together. \n\n Sign-Up Details:– A sign-up sheet will be available in the Camp Store– Please sign up so we can get an accurate head count– Deadline to sign up: 8:00 PM on Friday\, June 19th\, 2026\n\n Whether you’re an experienced angler or just fishing for fun\, this event is all about good times\, friendly competition\, and making memories at Rustic Creek.\n\nMore info on this event coming soon.
URL:https://rusticcreekfamilycampground.com/event/fishing-derby-hosted-by-skrippy/
ATTACH;FMTTYPE=image/jpeg:https://rusticcreekfamilycampground.com/wp-content/uploads/2026/01/fisherman-fishing-in-small-motor-boat-clipart-31657.jpg
END:VEVENT
BEGIN:VEVENT
DTSTART;TZID=America/New_York:20260627T140000
DTEND;TZID=America/New_York:20260627T160000
DTSTAMP:20260424T112249
CREATED:20260114T185055Z
LAST-MODIFIED:20260205T192635Z
UID:1614-1782568800-1782576000@rusticcreekfamilycampground.com
SUMMARY:Stained Glass Event with Renee Sands
DESCRIPTION:Join us for a magical afternoon of creativity at our Stained Glass Workshop\, hosted by Renee Sands!\n Create your own stained glass piece — choose between a dog/cat moon design No experience needed Where: Pavilion When: 2:00 PM Cost: $60.00 per person\nCome relax\, learn something new\, and take home a beautiful piece of art you’ll be proud to display.\n More information on sign-ups coming soon!Spots will be limited\, so keep an eye out 
URL:https://rusticcreekfamilycampground.com/event/stained-glass-event-with-renee-sands-2/
ATTACH;FMTTYPE=image/png:https://rusticcreekfamilycampground.com/wp-content/uploads/2026/01/Beige-Minimalist-Mood-Photo-Collage-1.png
END:VEVENT
END:VCALENDAR