BEGIN:VCALENDAR
VERSION:2.0
PRODID:-//Rustic Creek Family Campground - ECPv6.15.20//NONSGML v1.0//EN
CALSCALE:GREGORIAN
METHOD:PUBLISH
X-WR-CALNAME:Rustic Creek Family Campground
X-ORIGINAL-URL:https://rusticcreekfamilycampground.com
X-WR-CALDESC:Events for Rustic Creek Family Campground
REFRESH-INTERVAL;VALUE=DURATION:PT1H
X-Robots-Tag:noindex
X-PUBLISHED-TTL:PT1H
BEGIN:VTIMEZONE
TZID:America/New_York
BEGIN:DAYLIGHT
TZOFFSETFROM:-0500
TZOFFSETTO:-0400
TZNAME:EDT
DTSTART:20240310T070000
END:DAYLIGHT
BEGIN:STANDARD
TZOFFSETFROM:-0400
TZOFFSETTO:-0500
TZNAME:EST
DTSTART:20241103T060000
END:STANDARD
BEGIN:DAYLIGHT
TZOFFSETFROM:-0500
TZOFFSETTO:-0400
TZNAME:EDT
DTSTART:20250309T070000
END:DAYLIGHT
BEGIN:STANDARD
TZOFFSETFROM:-0400
TZOFFSETTO:-0500
TZNAME:EST
DTSTART:20251102T060000
END:STANDARD
BEGIN:DAYLIGHT
TZOFFSETFROM:-0500
TZOFFSETTO:-0400
TZNAME:EDT
DTSTART:20260308T070000
END:DAYLIGHT
BEGIN:STANDARD
TZOFFSETFROM:-0400
TZOFFSETTO:-0500
TZNAME:EST
DTSTART:20261101T060000
END:STANDARD
END:VTIMEZONE
BEGIN:VEVENT
DTSTART;TZID=America/New_York:20250607T140000
DTEND;TZID=America/New_York:20250607T160000
DTSTAMP:20260425T000138
CREATED:20250312T145744Z
LAST-MODIFIED:20250312T145744Z
UID:1551-1749304800-1749312000@rusticcreekfamilycampground.com
SUMMARY:Stained Glass Workshop - with Renee Sands
DESCRIPTION:✨ Stained Glass Workshop ✨\nHosted by: Rustic Creek Family Campground & Renee Sands\n📅 Date: June 7th\n⏰ Time: 2:00 PM\n📍 Location: Pavilion\, Rustic Creek Family Campground \nJoin us for a creative and inspiring Stained Glass Workshop with expert artist Renee Sands! Whether you’re a beginner or have some experience\, this hands-on class will guide you through the art of stained glass\, from design to completion. ✨🌈 \n🔹 Cost: $55 (due at sign-up)\n🔹 Sign-up Deadline: May 24th\n🔹 Class Size: Limited to 15 guests for a personalized experience \nSpaces are filling up fast\, so be sure to reserve your spot early! Don’t miss out on this unique opportunity to create your own beautiful stained glass masterpiece. \n🎨 To sign up\, stop in the campground store.\nWe can’t wait to see you there!
URL:https://rusticcreekfamilycampground.com/event/stained-glass-workshop-with-renee-sands/
LOCATION:Rustic Creek Family Campground\, 30 Vacation Lane\, Tunkhannock\, 18657\, United States
ATTACH;FMTTYPE=image/jpeg:https://rusticcreekfamilycampground.com/wp-content/uploads/2025/03/stained-glass-june.jpg
END:VEVENT
BEGIN:VEVENT
DTSTART;TZID=America/New_York:20250607T183000
DTEND;TZID=America/New_York:20250607T203000
DTSTAMP:20260425T000138
CREATED:20250310T192532Z
LAST-MODIFIED:20250310T192532Z
UID:1525-1749321000-1749328200@rusticcreekfamilycampground.com
SUMMARY:Adult Game Night
DESCRIPTION:Calling all adults for a fun-filled Game Night at Rustic Creek Family Campground! 🎲🍻 \nJoin us for an exciting adult-only game night\, where you can unwind\, enjoy friendly competition\, and connect with fellow campers. Whether you’re into board games\, card games\, or outdoor games\, there’s something for everyone to enjoy! \nJoin us for a night of laughter\, games\, and great company! We can’t wait to see you there!
URL:https://rusticcreekfamilycampground.com/event/adult-game-night/
LOCATION:Rustic Creek Family Campground\, 30 Vacation Lane\, Tunkhannock\, 18657\, United States
ATTACH;FMTTYPE=image/webp:https://rusticcreekfamilycampground.com/wp-content/uploads/2025/03/Game-Night.webp
END:VEVENT
BEGIN:VEVENT
DTSTART;TZID=America/New_York:20250613T140000
DTEND;TZID=America/New_York:20250615T120000
DTSTAMP:20260425T000138
CREATED:20240418T150125Z
LAST-MODIFIED:20250310T173239Z
UID:1199-1749823200-1749988800@rusticcreekfamilycampground.com
SUMMARY:Father's Day Weekend
DESCRIPTION:Join us at Rustic Creek Family Campground for a fun-filled weekend celebrating Dad! Enjoy exciting activities\, special events\, and plenty of opportunities to make lasting memories with the whole family. It’s the perfect way to honor and celebrate the dads in your life. Don’t miss out on this unforgettable weekend of fun and festivities!
URL:https://rusticcreekfamilycampground.com/event/fathers-day-weekend-2/
LOCATION:Rustic Creek Family Campground\, 30 Vacation Lane\, Tunkhannock\, 18657\, United States
ATTACH;FMTTYPE=image/jpeg:https://rusticcreekfamilycampground.com/wp-content/uploads/2024/04/421222346_876890491111389_965517967441743359_n.jpg
END:VEVENT
BEGIN:VEVENT
DTSTART;TZID=America/New_York:20250614T080000
DTEND;TZID=America/New_York:20250614T120000
DTSTAMP:20260425T000138
CREATED:20240418T150320Z
LAST-MODIFIED:20250310T173043Z
UID:1202-1749888000-1749902400@rusticcreekfamilycampground.com
SUMMARY:Father's Day Weekend Fishing Derby - Hosted by Skrippy
DESCRIPTION:Join us at the Creek for a fun-filled Father’s Day Fishing Derby\, hosted by our guest\, “Skrippy”! This exciting event offers friendly competition with prizes awarded for the Biggest Fish\, Smallest Fish\, and Most Caught Fish. \nTo participate\, be sure to sign up at the Campground Store—the sign-up sheet will be available there\, and you must be signed up by 8:00 p.m. on Friday\, 6/13. \nIt’s the perfect way to celebrate Father’s Day while enjoying the great outdoors and some friendly fishing rivalry. Bring your A-game and make this Father’s Day one to remember!
URL:https://rusticcreekfamilycampground.com/event/fathers-day-weekend-fishing-derby-hosted-by-skrippy/
LOCATION:Rustic Creek Family Campground\, 30 Vacation Lane\, Tunkhannock\, 18657\, United States
ATTACH;FMTTYPE=image/jpeg:https://rusticcreekfamilycampground.com/wp-content/uploads/2024/04/422382385_876893414444430_4079159687350195663_n.jpg
END:VEVENT
BEGIN:VEVENT
DTSTART;TZID=America/New_York:20250621T183000
DTEND;TZID=America/New_York:20250621T203000
DTSTAMP:20260425T000138
CREATED:20250310T192816Z
LAST-MODIFIED:20250310T192816Z
UID:1530-1750530600-1750537800@rusticcreekfamilycampground.com
SUMMARY:Kid's Game Night
DESCRIPTION:Calling all children for a fun-filled Game Night at Rustic Creek Family Campground! 🎲🍻 \nJoin us for an exciting game night\, where you can unwind\, enjoy friendly competition\, and make new friends. Whether you’re into board games\, card games\, or outdoor games\, there’s something for everyone to enjoy! \nJoin us for a night of laughter\, games\, and great company! We can’t wait to see you there!
URL:https://rusticcreekfamilycampground.com/event/kids-game-night/
LOCATION:Rustic Creek Family Campground\, 30 Vacation Lane\, Tunkhannock\, 18657\, United States
ATTACH;FMTTYPE=image/webp:https://rusticcreekfamilycampground.com/wp-content/uploads/2025/03/Game-Night.webp
END:VEVENT
BEGIN:VEVENT
DTSTART;TZID=America/New_York:20250628T190000
DTEND;TZID=America/New_York:20250628T220000
DTSTAMP:20260425T000138
CREATED:20250310T172450Z
LAST-MODIFIED:20250310T172450Z
UID:1470-1751137200-1751148000@rusticcreekfamilycampground.com
SUMMARY:Alibi Returns to Rustic Creek & Pizza Truck - Hosted by George & Donnie
DESCRIPTION:Alibi Returns to Rustic Creek Family Campground for an unforgettable night of live music\, and we’re thrilled to also have a Pizza Truck\, hosted by our wonderful seasonal guests\, Colleen & George Stoss and Donald & Kelly Miller! \nEnjoy delicious pizza\, fantastic tunes\, and an incredible atmosphere as Alibi brings their signature sound to the campground. This is the perfect opportunity to unwind\, indulge in great food\, and enjoy a lively evening with fellow campers. Don’t miss out on this exciting event—you’re sure to have a memorable time!
URL:https://rusticcreekfamilycampground.com/event/alibi-returns-to-rustic-creek-pizza-truck-hosted-by-george-donnie/
LOCATION:Rustic Creek Family Campground\, 30 Vacation Lane\, Tunkhannock\, 18657\, United States
ATTACH;FMTTYPE=image/jpeg:https://rusticcreekfamilycampground.com/wp-content/uploads/2024/04/415001775_881318583993846_2958318198579447121_n.jpg
END:VEVENT
END:VCALENDAR