BEGIN:VCALENDAR
VERSION:2.0
PRODID:-//Rustic Creek Family Campground - ECPv6.15.20//NONSGML v1.0//EN
CALSCALE:GREGORIAN
METHOD:PUBLISH
X-WR-CALNAME:Rustic Creek Family Campground
X-ORIGINAL-URL:https://rusticcreekfamilycampground.com
X-WR-CALDESC:Events for Rustic Creek Family Campground
REFRESH-INTERVAL;VALUE=DURATION:PT1H
X-Robots-Tag:noindex
X-PUBLISHED-TTL:PT1H
BEGIN:VTIMEZONE
TZID:America/New_York
BEGIN:DAYLIGHT
TZOFFSETFROM:-0500
TZOFFSETTO:-0400
TZNAME:EDT
DTSTART:20250309T070000
END:DAYLIGHT
BEGIN:STANDARD
TZOFFSETFROM:-0400
TZOFFSETTO:-0500
TZNAME:EST
DTSTART:20251102T060000
END:STANDARD
BEGIN:DAYLIGHT
TZOFFSETFROM:-0500
TZOFFSETTO:-0400
TZNAME:EDT
DTSTART:20260308T070000
END:DAYLIGHT
BEGIN:STANDARD
TZOFFSETFROM:-0400
TZOFFSETTO:-0500
TZNAME:EST
DTSTART:20261101T060000
END:STANDARD
BEGIN:DAYLIGHT
TZOFFSETFROM:-0500
TZOFFSETTO:-0400
TZNAME:EDT
DTSTART:20270314T070000
END:DAYLIGHT
BEGIN:STANDARD
TZOFFSETFROM:-0400
TZOFFSETTO:-0500
TZNAME:EST
DTSTART:20271107T060000
END:STANDARD
END:VTIMEZONE
BEGIN:VEVENT
DTSTART;TZID=America/New_York:20260808T140000
DTEND;TZID=America/New_York:20260808T160000
DTSTAMP:20260425T065126
CREATED:20260115T165733Z
LAST-MODIFIED:20260115T165733Z
UID:1660-1786197600-1786204800@rusticcreekfamilycampground.com
SUMMARY:Carnival Games
DESCRIPTION:Get ready for some classic carnival fun! Join us during Carnival Weekend at Rustic Creek Family Campground for Carnival Games and your chance to win tons of prizes! \n\n Event Highlights: A variety of fun carnival-style games Lots of prizes to be won Fun for all ages\n\nWhether you’re aiming for bragging rights or just playing for fun\, there’s something for everyone!\n\n More details on games and activities coming soon\, so stay tuned for updates.\n\nDon’t miss out on the excitement—Carnival Weekend at Rustic Creek is going to be a blast! 
URL:https://rusticcreekfamilycampground.com/event/carnival-games/
ATTACH;FMTTYPE=image/jpeg:https://rusticcreekfamilycampground.com/wp-content/uploads/2026/01/485768717_10003972516320070_7968192009971373724_n.jpg
END:VEVENT
BEGIN:VEVENT
DTSTART;TZID=America/New_York:20260808T160000
DTEND;TZID=America/New_York:20260808T183000
DTSTAMP:20260425T065126
CREATED:20260115T170859Z
LAST-MODIFIED:20260115T170859Z
UID:1663-1786204800-1786213800@rusticcreekfamilycampground.com
SUMMARY:Kids Magic Show with Michael Reist
DESCRIPTION:Get ready for laughter\, amazement\, and magical fun! Join us at the pavilion for a Magic Show featuring the incredible Michael Reist! \n\nThis family-friendly show is perfect for kids of all ages and is sure to keep everyone entertained with exciting tricks\, surprises\, and plenty of smiles.\n\n Event Highlights: Live magic performance by Michael Reist Interactive fun for kids Family-friendly entertainment
URL:https://rusticcreekfamilycampground.com/event/kids-magic-show-with-michael-reist/
ATTACH;FMTTYPE=image/webp:https://rusticcreekfamilycampground.com/wp-content/uploads/2026/01/vector-magician-icon-circus-artist-clipart-amusement-holiday-man-showing-trick-rabbit-cute-funny-festival-juggler-clip-art-233978964.webp
END:VEVENT
BEGIN:VEVENT
DTSTART;TZID=America/New_York:20260808T190000
DTEND;TZID=America/New_York:20260808T213000
DTSTAMP:20260425T065126
CREATED:20260115T172238Z
LAST-MODIFIED:20260115T172238Z
UID:1666-1786215600-1786224600@rusticcreekfamilycampground.com
SUMMARY:Adult Magic Show with Michael Reist
DESCRIPTION:Get ready for an evening of mind-blowing illusions\, laughs\, and unforgettable entertainment! Join us at the pavilion for an Adult Magic Show featuring the talented Michael Reist. 🪄🍻 \nThis show is designed especially for adults\, combining impressive magic\, humor\, and interactive fun that will keep you guessing all night long. \n🌟 Event Highlights:\n🎩 Live magic performance by Michael Reist\n🪄 Clever illusions and audience interaction\n🎉 A fun night out with fellow campers \n👉 Grab a seat and enjoy a magical night at Rustic Creek Family Campground!
URL:https://rusticcreekfamilycampground.com/event/adult-magic-show-with-michael-reist/
ATTACH;FMTTYPE=image/webp:https://rusticcreekfamilycampground.com/wp-content/uploads/2026/01/vector-magician-icon-circus-artist-clipart-amusement-holiday-man-showing-trick-rabbit-cute-funny-festival-juggler-clip-art-233978964.webp
END:VEVENT
BEGIN:VEVENT
DTSTART;TZID=America/New_York:20260815T140000
DTEND;TZID=America/New_York:20260815T160000
DTSTAMP:20260425T065126
CREATED:20260115T172559Z
LAST-MODIFIED:20260205T192036Z
UID:1668-1786802400-1786809600@rusticcreekfamilycampground.com
SUMMARY:Painting Party with Andrea Recene
DESCRIPTION:Join us for a fun and relaxing Painting Party\, hosted by Andrea Recene!We’ll be painting a stunning tree scene—perfect for beginners and experienced painters alike.\n Project: Tree Painting Cost: $25.00 per person Location: Pavilion Time: 2:00 PM\nAll supplies provided—just bring yourself and your creativity!\n More details on sign-ups coming soon!
URL:https://rusticcreekfamilycampground.com/event/painting-party-with-andrea-recene-4/
ATTACH;FMTTYPE=image/jpeg:https://rusticcreekfamilycampground.com/wp-content/uploads/2026/01/painting-party-tree.jpeg
END:VEVENT
BEGIN:VEVENT
DTSTART;TZID=America/New_York:20260815T190000
DTEND;TZID=America/New_York:20260815T220000
DTSTAMP:20260425T065126
CREATED:20260115T173305Z
LAST-MODIFIED:20260115T173305Z
UID:1670-1786820400-1786831200@rusticcreekfamilycampground.com
SUMMARY:Live Music by Jacob Gilpin
DESCRIPTION:Join us at the pavilion for a great night of live music featuring Jacob Gilpin! \n\nSit back\, relax\, and enjoy an evening filled with good tunes\, great company\, and campground vibes. Whether you’re winding down after a day of activities or just love live music\, this is the perfect way to spend the night at Rustic Creek.\n\n Bring a chair and enjoy live music at Rustic Creek Family Campground!
URL:https://rusticcreekfamilycampground.com/event/live-music-by-jacob-gilpin/
ATTACH;FMTTYPE=image/webp:https://rusticcreekfamilycampground.com/wp-content/uploads/2026/01/IMG_3504.webp
END:VEVENT
BEGIN:VEVENT
DTSTART;TZID=America/New_York:20260822T140000
DTEND;TZID=America/New_York:20260822T160000
DTSTAMP:20260425T065126
CREATED:20260115T173640Z
LAST-MODIFIED:20260205T191912Z
UID:1673-1787407200-1787414400@rusticcreekfamilycampground.com
SUMMARY:Stained Glass Event with Renee Sands
DESCRIPTION:Join us for a creative afternoon at our Stained Glass Event\, hosted by Renee Sands!You’ll create a cute bird stained glass piece to take home and treasure.\n Project: Bird Stained Glass Cost: $55.00 per person Location: Pavilion Time: 2:00 PM\nAll supplies provided—no experience needed\, just bring your creativity!\n More details on sign-ups coming soon!
URL:https://rusticcreekfamilycampground.com/event/stained-glass-event-with-renee-sands-4/
ATTACH;FMTTYPE=image/jpeg:https://rusticcreekfamilycampground.com/wp-content/uploads/2026/01/stained-glass-birds.jpeg
END:VEVENT
BEGIN:VEVENT
DTSTART;TZID=America/New_York:20260829T140000
DTEND;TZID=America/New_York:20260829T153000
DTSTAMP:20260425T065126
CREATED:20260115T184636Z
LAST-MODIFIED:20260115T195023Z
UID:1689-1788012000-1788017400@rusticcreekfamilycampground.com
SUMMARY:Scavenger Hunt - Hosted by Tara Callahan
DESCRIPTION:More info on this event coming soon.
URL:https://rusticcreekfamilycampground.com/event/scavenger-hunt-hosted-by-tara-callahan/
ATTACH;FMTTYPE=image/jpeg:https://rusticcreekfamilycampground.com/wp-content/uploads/2026/01/istockphoto-1523845156-612x612-1.jpg
END:VEVENT
BEGIN:VEVENT
DTSTART;TZID=America/New_York:20260904T140000
DTEND;TZID=America/New_York:20260906T120000
DTSTAMP:20260425T065126
CREATED:20260115T180312Z
LAST-MODIFIED:20260115T180312Z
UID:1678-1788530400-1788696000@rusticcreekfamilycampground.com
SUMMARY:Labor Day Weekend Basket Raffle Donation Drop-Off
DESCRIPTION:We need your help to make our Labor Day Weekend Basket Raffle a continued success! \n\nIf you’re donating a basket or raffle item\, please bring it to the Camp Store during the times listed below.\n\n Donation Details: Baskets & raffle items of all kinds are welcome Drop off at the Camp Store Drop off between Friday 2:00 PM – Sunday 12:00 PM\n\nYour generosity helps make this event fun\, exciting\, and memorable for everyone at Rustic Creek Family Campground. We truly appreciate all of our guests who contribute year after year!\n\n Thank you for helping support one of our favorite Labor Day Weekend traditions!
URL:https://rusticcreekfamilycampground.com/event/labor-day-weekend-basket-raffle-donation-drop-off/
ATTACH;FMTTYPE=image/webp:https://rusticcreekfamilycampground.com/wp-content/uploads/2026/01/Holidaysocial20242.webp
END:VEVENT
BEGIN:VEVENT
DTSTART;TZID=America/New_York:20260904T140000
DTEND;TZID=America/New_York:20260907T120000
DTSTAMP:20260425T065126
CREATED:20260115T174819Z
LAST-MODIFIED:20260115T174819Z
UID:1675-1788530400-1788782400@rusticcreekfamilycampground.com
SUMMARY:Labor Day Weekend
DESCRIPTION:Wrap up the summer with an unforgettable Labor Day Weekend at Rustic Creek Family Campground! Join us for one of the biggest weekends of the season\, filled with fun\, excitement\, and great memories for the whole family. \n\n Weekend Highlights: Fireworks Display lighting up the night sky Basket Raffle with great prizes Family-friendly activities Campfires\, laughter\, and more fun all weekend long\n\nWhether you’re relaxing at your site or joining in on the activities\, there’s something for everyone to enjoy as we celebrate the end of summer together.\n\n Invite your friends and family and come celebrate Labor Day Weekend at Rustic Creek Family Campground!
URL:https://rusticcreekfamilycampground.com/event/labor-day-weekend-2/
ATTACH;FMTTYPE=image/jpeg:https://rusticcreekfamilycampground.com/wp-content/uploads/2026/01/labor-day-various-professions-representation-background-design-free-vector.jpg
END:VEVENT
BEGIN:VEVENT
DTSTART;TZID=America/New_York:20260905T190000
DTEND;TZID=America/New_York:20260905T220000
DTSTAMP:20260425T065126
CREATED:20260115T180815Z
LAST-MODIFIED:20260115T180815Z
UID:1680-1788634800-1788645600@rusticcreekfamilycampground.com
SUMMARY:Live Music by Alibi
DESCRIPTION:We’re thrilled to welcome back Alibi for a special Labor Day Weekend performance at Rustic Creek Family Campground! \n\nGet ready to sing\, dance\, and celebrate the end of summer with amazing live music in the beautiful campground setting. Whether you’re a longtime fan or hearing them for the first time\, this is a show you won’t want to miss! 
URL:https://rusticcreekfamilycampground.com/event/live-music-by-alibi-2/
ATTACH;FMTTYPE=image/jpeg:https://rusticcreekfamilycampground.com/wp-content/uploads/2026/01/489848990_1223132966479071_241294517935050453_n.jpg
END:VEVENT
BEGIN:VEVENT
DTSTART;TZID=America/New_York:20260905T203000
DTEND;TZID=America/New_York:20260905T213000
DTSTAMP:20260425T065126
CREATED:20260115T182358Z
LAST-MODIFIED:20260115T182358Z
UID:1682-1788640200-1788643800@rusticcreekfamilycampground.com
SUMMARY:Fireworks by Zy Pyrotechnics d.b.a. Skyshooter Displays
DESCRIPTION:Don’t miss the final fireworks display of the season at Rustic Creek Family Campground! Celebrate Labor Day Weekend with a spectacular show put on by Zy Pyrotechnics (Skyshooter Displays). \n\n Event Highlights: Amazing\, professional fireworks display Show begins at dusk Perfect way to end the summer and celebrate the holiday\n\nBring your family and friends\, find a cozy spot\, and enjoy a breathtaking night sky full of lights and color. This is the perfect way to wrap up an incredible camping season!\n\n Make sure you’re here for the grand finale of the season!\n\nWeather Permitting. This is an exclusive event for guests only. Please follow campground rules and staff instructions for safety.
URL:https://rusticcreekfamilycampground.com/event/fireworks-by-zy-pyrotechnics-d-b-a-skyshooter-displays/
ATTACH;FMTTYPE=image/jpeg:https://rusticcreekfamilycampground.com/wp-content/uploads/2024/04/422320834_876874741112964_29002348343531964_n.jpg
END:VEVENT
BEGIN:VEVENT
DTSTART;TZID=America/New_York:20260906T140000
DTEND;TZID=America/New_York:20260906T160000
DTSTAMP:20260425T065126
CREATED:20260207T171140Z
LAST-MODIFIED:20260207T171140Z
UID:1728-1788703200-1788710400@rusticcreekfamilycampground.com
SUMMARY:Labor Day Weekend Basket Raffle
DESCRIPTION:Join us at the pavilion for our Labor Day Weekend Basket Raffle at Rustic Creek Family Campground—one of the most exciting events of the weekend!\n Event Highlights: Tons of great baskets and prizes Featured prizes will be announced soon—stay tuned! Tickets go on sale at 2:00 PM Raffle drawings begin at 3:00 PM\nStop by the pavilion\, grab your tickets\, and enjoy the fun as we draw winners. It’s a great way to celebrate Labor Day Weekend and maybe take home something awesome!
URL:https://rusticcreekfamilycampground.com/event/labor-day-weekend-basket-raffle/
ATTACH;FMTTYPE=image/jpeg:https://rusticcreekfamilycampground.com/wp-content/uploads/2026/01/d1bc01002d67d63f2503a9d3e9838e66.jpg
END:VEVENT
BEGIN:VEVENT
DTSTART;TZID=America/New_York:20260912T140000
DTEND;TZID=America/New_York:20260912T140000
DTSTAMP:20260425T065126
CREATED:20260115T182823Z
LAST-MODIFIED:20260205T191742Z
UID:1684-1789221600-1789221600@rusticcreekfamilycampground.com
SUMMARY:Painting Party with Andrea Recene
DESCRIPTION:Get ready for a fun and creative afternoon! Join us as we paint a cute pumpkin scene—perfect for all skill levels.\n Project: Pumpkin Painting Cost: $25.00 per person Location: Pavilion Time: 2:00 PM\nBring your creativity\, relax\, and enjoy a delightful painting experience!\n More details on sign-ups coming soon!
URL:https://rusticcreekfamilycampground.com/event/painting-party-with-andrea-recene-5/
ATTACH;FMTTYPE=image/jpeg:https://rusticcreekfamilycampground.com/wp-content/uploads/2026/01/painting-party-pumpkin.jpeg
END:VEVENT
BEGIN:VEVENT
DTSTART;TZID=America/New_York:20260919T190000
DTEND;TZID=America/New_York:20260919T220000
DTSTAMP:20260425T065126
CREATED:20260115T184111Z
LAST-MODIFIED:20260115T184111Z
UID:1686-1789844400-1789855200@rusticcreekfamilycampground.com
SUMMARY:Customer Appreciation Dinner
DESCRIPTION:We want to say THANK YOU to all of our amazing guests! Join us for our annual Customer Appreciation Dinner\, a special evening dedicated to showing our gratitude for your support throughout this season—and seasons past. \n\n Event Highlights: Delicious dinner and drinks Fun\, relaxing atmosphere with fellow guests Enjoy music\, conversation\, and memories with the Rustic Creek community\n\nThis is our way of celebrating the people who make Rustic Creek Family Campground such a special place. Whether you’ve been visiting for years or are a first-time guest\, we can’t wait to spend this evening with you!\n\n Join us for a night of food\, fun\, and appreciation!
URL:https://rusticcreekfamilycampground.com/event/customer-appreciation-dinner/
ATTACH;FMTTYPE=image/jpeg:https://rusticcreekfamilycampground.com/wp-content/uploads/2026/01/552531886_1369988018468298_4422196186865439535_n.jpg
END:VEVENT
BEGIN:VEVENT
DTSTART;TZID=America/New_York:20261002T140000
DTEND;TZID=America/New_York:20261004T120000
DTSTAMP:20260425T065126
CREATED:20260115T185825Z
LAST-MODIFIED:20260115T195058Z
UID:1692-1790949600-1791115200@rusticcreekfamilycampground.com
SUMMARY:Halloween Weekend #1
DESCRIPTION:Get ready for one of the most anticipated weekends of the camping season—Halloween Weekend #1 is back at Rustic Creek! \n\nJoin us for a spooky\, fun-filled weekend packed with activities\, games\, and surprises for the whole family. Whether you’re here for the costumes\, the thrills\, or the treats\, there’s something for everyone!\n\n What to Expect: Fun Halloween-themed activities Competitive Costume Contests Trick-or-Treating\n\n A detailed schedule of events and activities will be posted soon\, so mark “Going” and stay tuned for all the exciting details!\n\nDon’t miss out on the Halloween fun—Rustic Creek style! 
URL:https://rusticcreekfamilycampground.com/event/halloween-weekend-1/
ATTACH;FMTTYPE=image/jpeg:https://rusticcreekfamilycampground.com/wp-content/uploads/2026/01/558522463_1383563910444042_4677893609666061191_n-1.jpg
END:VEVENT
BEGIN:VEVENT
DTSTART;TZID=America/New_York:20261003T140000
DTEND;TZID=America/New_York:20261003T150000
DTSTAMP:20260425T065126
CREATED:20260115T194821Z
LAST-MODIFIED:20260115T195605Z
UID:1696-1791036000-1791039600@rusticcreekfamilycampground.com
SUMMARY:Golf Cart Parade - Hosted by Tara & Ian Watkins
DESCRIPTION:Get ready to decorate\, rev up\, and join the fun at our Golf Cart Parade! Hosted by Tara & Ian Watkins\, this festive event is a highlight of the season and a great way to show off your creativity. \n\nWhether you’re a seasoned decorator or just coming to enjoy the parade\, this is a weekend event you won’t want to miss!\n\n Stay tuned for more details!\n\nGet your golf carts ready—it’s parade time! 
URL:https://rusticcreekfamilycampground.com/event/golf-cart-parade-hosted-by-tara-ian-watkins/
ATTACH;FMTTYPE=image/jpeg:https://rusticcreekfamilycampground.com/wp-content/uploads/2026/01/557857025_1383448393788927_5580013741631878799_n.jpg
END:VEVENT
BEGIN:VEVENT
DTSTART;TZID=America/New_York:20261009T140000
DTEND;TZID=America/New_York:20261011T120000
DTSTAMP:20260425T065126
CREATED:20260116T191230Z
LAST-MODIFIED:20260116T191230Z
UID:1702-1791554400-1791720000@rusticcreekfamilycampground.com
SUMMARY:Halloween Weekend #2
DESCRIPTION:Get ready for one of the most anticipated weekends of the camping season—Halloween Weekend #2 is back at Rustic Creek! \n\nJoin us for a spooky\, fun-filled weekend packed with activities\, games\, and surprises for the whole family. Whether you’re here for the costumes\, the thrills\, or the treats\, there’s something for everyone!\n\n What to Expect: Fun Halloween-themed activities Competitive Costume Contests Trick-or-Treating\n\n A detailed schedule of events and activities will be posted soon\, so mark “Going” and stay tuned for all the exciting details!Don’t miss out on the Halloween fun—Rustic Creek style! 
URL:https://rusticcreekfamilycampground.com/event/halloween-weekend-2-3/
ATTACH;FMTTYPE=image/jpeg:https://rusticcreekfamilycampground.com/wp-content/uploads/2026/01/558522463_1383563910444042_4677893609666061191_n-1.jpg
END:VEVENT
BEGIN:VEVENT
DTSTART;TZID=America/New_York:20261010T140000
DTEND;TZID=America/New_York:20261010T150000
DTSTAMP:20260425T065126
CREATED:20260207T163150Z
LAST-MODIFIED:20260207T163150Z
UID:1724-1791640800-1791644400@rusticcreekfamilycampground.com
SUMMARY:Pet Costume Contest - Hosted by Ron Merrigan
DESCRIPTION:Get ready for paws\, applause\, and plenty of “awws”!\nJoin us for our Pet Costume Contest\, hosted by our seasonal guest\, Ron Merrigan! Dress up your furry friend and show off their most creative\, funny\, or downright adorable costume.\n Pavilion at 2:00 PM This is a FREE event\, but if you plan on attending with your pet\, please click the “Tickets” link to complete the sign-up process so we can get an accurate headcount.\nBring your pet\, your camera\, and your sense of fun—we can’t wait to see those costumes! 
URL:https://rusticcreekfamilycampground.com/event/pet-costume-contest-hosted-by-ron-merrigan/
ATTACH;FMTTYPE=image/jpeg:https://rusticcreekfamilycampground.com/wp-content/uploads/2026/02/561327475_1390961999704233_7175161068645852425_n.jpg
END:VEVENT
BEGIN:VEVENT
DTSTART;TZID=America/New_York:20261016T140000
DTEND;TZID=America/New_York:20261018T120000
DTSTAMP:20260425T065126
CREATED:20260115T201601Z
LAST-MODIFIED:20260115T201601Z
UID:1700-1792159200-1792324800@rusticcreekfamilycampground.com
SUMMARY:Closing Weekend
DESCRIPTION:As another amazing season comes to a close\, we want to thank all of our wonderful guests! \n\nIt’s been a fantastic season full of memories\, fun\, and community\, and we can’t wait to see everyone again next year. Join us for a relaxing and celebratory weekend as we wrap up the season together.\n\n Join us as we say farewell to this season—but not goodbye!\n\nThank you to all our campers for making this season so special. We can’t wait to welcome you back next year! 
URL:https://rusticcreekfamilycampground.com/event/closing-weekend/
ATTACH;FMTTYPE=image/png:https://rusticcreekfamilycampground.com/wp-content/uploads/2023/02/RC_Logolg.png
END:VEVENT
END:VCALENDAR