BEGIN:VCALENDAR
VERSION:2.0
PRODID:-//Rustic Creek Family Campground - ECPv6.15.20//NONSGML v1.0//EN
CALSCALE:GREGORIAN
METHOD:PUBLISH
X-WR-CALNAME:Rustic Creek Family Campground
X-ORIGINAL-URL:https://rusticcreekfamilycampground.com
X-WR-CALDESC:Events for Rustic Creek Family Campground
REFRESH-INTERVAL;VALUE=DURATION:PT1H
X-Robots-Tag:noindex
X-PUBLISHED-TTL:PT1H
BEGIN:VTIMEZONE
TZID:America/New_York
BEGIN:DAYLIGHT
TZOFFSETFROM:-0500
TZOFFSETTO:-0400
TZNAME:EDT
DTSTART:20240310T070000
END:DAYLIGHT
BEGIN:STANDARD
TZOFFSETFROM:-0400
TZOFFSETTO:-0500
TZNAME:EST
DTSTART:20241103T060000
END:STANDARD
BEGIN:DAYLIGHT
TZOFFSETFROM:-0500
TZOFFSETTO:-0400
TZNAME:EDT
DTSTART:20250309T070000
END:DAYLIGHT
BEGIN:STANDARD
TZOFFSETFROM:-0400
TZOFFSETTO:-0500
TZNAME:EST
DTSTART:20251102T060000
END:STANDARD
BEGIN:DAYLIGHT
TZOFFSETFROM:-0500
TZOFFSETTO:-0400
TZNAME:EDT
DTSTART:20260308T070000
END:DAYLIGHT
BEGIN:STANDARD
TZOFFSETFROM:-0400
TZOFFSETTO:-0500
TZNAME:EST
DTSTART:20261101T060000
END:STANDARD
END:VTIMEZONE
BEGIN:VEVENT
DTSTART;TZID=America/New_York:20250418T140000
DTEND;TZID=America/New_York:20250420T120000
DTSTAMP:20260425T111139
CREATED:20230216T042219Z
LAST-MODIFIED:20250310T190302Z
UID:1001-1744984800-1745150400@rusticcreekfamilycampground.com
SUMMARY:Opening Weekend
DESCRIPTION:Welcome Back\, Seasonal Campers! 🌟🏕️ \nWe’re thrilled to kick off another fantastic season at Rustic Creek Family Campground and are excited to welcome back all of our seasonal campers! It’s time to reconnect with old friends\, make new memories\, and enjoy everything that makes this campground so special. \nGet ready for a season full of fun events\, outdoor adventures\, and plenty of relaxation. Whether you’re here to unwind\, explore\, or join in on our exciting activities\, we’re so glad to have you back! \nHere’s to another unforgettable season at Rustic Creek—let’s make it the best one yet! 🌳🔥😊
URL:https://rusticcreekfamilycampground.com/event/halloween-site-decorating-awards-presented-2/
LOCATION:Rustic Creek Family Campground\, 30 Vacation Lane\, Tunkhannock\, 18657\, United States
ATTACH;FMTTYPE=image/jpeg:https://rusticcreekfamilycampground.com/wp-content/uploads/2023/02/entrance4park.jpg
END:VEVENT
BEGIN:VEVENT
DTSTART;TZID=America/New_York:20250411T140000
DTEND;TZID=America/New_York:20250413T120000
DTSTAMP:20260425T111139
CREATED:20230216T042522Z
LAST-MODIFIED:20250310T190735Z
UID:1004-1744380000-1744545600@rusticcreekfamilycampground.com
SUMMARY:Free Seasonal Weekend
DESCRIPTION:We’re offering a FREE Weekend for those who wish to arrive a weekend early and help with park cleanup! If you’re ready to get a jumpstart on the season\, come join us for a weekend of fun and community as we prepare the campground for the upcoming season. \nIn exchange for your help with cleanup around the park\, you’ll enjoy a free stay for the weekend! It’s a great way to reconnect\, pitch in\, and kick off the season together. \nWe appreciate your help and can’t wait to see everyone back at Rustic Creek Family Campground! Let’s get ready for another amazing season together! 🌳🌞
URL:https://rusticcreekfamilycampground.com/event/haunted-hay-ride/
LOCATION:Rustic Creek Family Campground\, 30 Vacation Lane\, Tunkhannock\, 18657\, United States
ATTACH;FMTTYPE=image/jpeg:https://rusticcreekfamilycampground.com/wp-content/uploads/2023/02/free-seasonal-weekend.jpg
END:VEVENT
END:VCALENDAR