BEGIN:VCALENDAR
VERSION:2.0
PRODID:-//Rustic Creek Family Campground - ECPv6.15.20//NONSGML v1.0//EN
CALSCALE:GREGORIAN
METHOD:PUBLISH
X-WR-CALNAME:Rustic Creek Family Campground
X-ORIGINAL-URL:https://rusticcreekfamilycampground.com
X-WR-CALDESC:Events for Rustic Creek Family Campground
REFRESH-INTERVAL;VALUE=DURATION:PT1H
X-Robots-Tag:noindex
X-PUBLISHED-TTL:PT1H
BEGIN:VTIMEZONE
TZID:America/New_York
BEGIN:DAYLIGHT
TZOFFSETFROM:-0500
TZOFFSETTO:-0400
TZNAME:EDT
DTSTART:20250309T070000
END:DAYLIGHT
BEGIN:STANDARD
TZOFFSETFROM:-0400
TZOFFSETTO:-0500
TZNAME:EST
DTSTART:20251102T060000
END:STANDARD
BEGIN:DAYLIGHT
TZOFFSETFROM:-0500
TZOFFSETTO:-0400
TZNAME:EDT
DTSTART:20260308T070000
END:DAYLIGHT
BEGIN:STANDARD
TZOFFSETFROM:-0400
TZOFFSETTO:-0500
TZNAME:EST
DTSTART:20261101T060000
END:STANDARD
BEGIN:DAYLIGHT
TZOFFSETFROM:-0500
TZOFFSETTO:-0400
TZNAME:EDT
DTSTART:20270314T070000
END:DAYLIGHT
BEGIN:STANDARD
TZOFFSETFROM:-0400
TZOFFSETTO:-0500
TZNAME:EST
DTSTART:20271107T060000
END:STANDARD
END:VTIMEZONE
BEGIN:VEVENT
DTSTART;TZID=America/New_York:20260815T140000
DTEND;TZID=America/New_York:20260815T160000
DTSTAMP:20260424T161503
CREATED:20260115T172559Z
LAST-MODIFIED:20260205T192036Z
UID:1668-1786802400-1786809600@rusticcreekfamilycampground.com
SUMMARY:Painting Party with Andrea Recene
DESCRIPTION:Join us for a fun and relaxing Painting Party\, hosted by Andrea Recene!We’ll be painting a stunning tree scene—perfect for beginners and experienced painters alike.\n Project: Tree Painting Cost: $25.00 per person Location: Pavilion Time: 2:00 PM\nAll supplies provided—just bring yourself and your creativity!\n More details on sign-ups coming soon!
URL:https://rusticcreekfamilycampground.com/event/painting-party-with-andrea-recene-4/
ATTACH;FMTTYPE=image/jpeg:https://rusticcreekfamilycampground.com/wp-content/uploads/2026/01/painting-party-tree.jpeg
END:VEVENT
BEGIN:VEVENT
DTSTART;TZID=America/New_York:20260815T190000
DTEND;TZID=America/New_York:20260815T220000
DTSTAMP:20260424T161503
CREATED:20260115T173305Z
LAST-MODIFIED:20260115T173305Z
UID:1670-1786820400-1786831200@rusticcreekfamilycampground.com
SUMMARY:Live Music by Jacob Gilpin
DESCRIPTION:Join us at the pavilion for a great night of live music featuring Jacob Gilpin! \n\nSit back\, relax\, and enjoy an evening filled with good tunes\, great company\, and campground vibes. Whether you’re winding down after a day of activities or just love live music\, this is the perfect way to spend the night at Rustic Creek.\n\n Bring a chair and enjoy live music at Rustic Creek Family Campground!
URL:https://rusticcreekfamilycampground.com/event/live-music-by-jacob-gilpin/
ATTACH;FMTTYPE=image/webp:https://rusticcreekfamilycampground.com/wp-content/uploads/2026/01/IMG_3504.webp
END:VEVENT
END:VCALENDAR