BEGIN:VCALENDAR
VERSION:2.0
PRODID:-//Rustic Creek Family Campground - ECPv6.15.20//NONSGML v1.0//EN
CALSCALE:GREGORIAN
METHOD:PUBLISH
X-ORIGINAL-URL:https://rusticcreekfamilycampground.com
X-WR-CALDESC:Events for Rustic Creek Family Campground
REFRESH-INTERVAL;VALUE=DURATION:PT1H
X-Robots-Tag:noindex
X-PUBLISHED-TTL:PT1H
BEGIN:VTIMEZONE
TZID:America/New_York
BEGIN:DAYLIGHT
TZOFFSETFROM:-0500
TZOFFSETTO:-0400
TZNAME:EDT
DTSTART:20250309T070000
END:DAYLIGHT
BEGIN:STANDARD
TZOFFSETFROM:-0400
TZOFFSETTO:-0500
TZNAME:EST
DTSTART:20251102T060000
END:STANDARD
BEGIN:DAYLIGHT
TZOFFSETFROM:-0500
TZOFFSETTO:-0400
TZNAME:EDT
DTSTART:20260308T070000
END:DAYLIGHT
BEGIN:STANDARD
TZOFFSETFROM:-0400
TZOFFSETTO:-0500
TZNAME:EST
DTSTART:20261101T060000
END:STANDARD
BEGIN:DAYLIGHT
TZOFFSETFROM:-0500
TZOFFSETTO:-0400
TZNAME:EDT
DTSTART:20270314T070000
END:DAYLIGHT
BEGIN:STANDARD
TZOFFSETFROM:-0400
TZOFFSETTO:-0500
TZNAME:EST
DTSTART:20271107T060000
END:STANDARD
END:VTIMEZONE
BEGIN:VEVENT
DTSTART;TZID=America/New_York:20260725T140000
DTEND;TZID=America/New_York:20260725T160000
DTSTAMP:20260424T144453
CREATED:20260115T155342Z
LAST-MODIFIED:20260115T155342Z
UID:1649-1784988000-1784995200@rusticcreekfamilycampground.com
SUMMARY:Pick a Prize Bingo - Hosted by Terri Detrick & Valerie Hughes
DESCRIPTION:More info on this event coming soon.
URL:https://rusticcreekfamilycampground.com/event/pick-a-prize-bingo-hosted-by-terri-detrick-valerie-hughes-2/
ATTACH;FMTTYPE=image/webp:https://rusticcreekfamilycampground.com/wp-content/uploads/2026/01/today-great-day-bingo-illustration-600nw-2371387975.webp
END:VEVENT
BEGIN:VEVENT
DTSTART;TZID=America/New_York:20260725T160000
DTEND;TZID=America/New_York:20260725T180000
DTSTAMP:20260424T144453
CREATED:20260115T155622Z
LAST-MODIFIED:20260205T192214Z
UID:1651-1784995200-1785002400@rusticcreekfamilycampground.com
SUMMARY:Painting Party with Andrea Recene
DESCRIPTION:Join us for a relaxing and creative Painting Party\, hosted by Andrea Recene!We’ll be painting a beautiful tent scene—perfect for all skill levels.\n Project: Tent Painting Cost: $25.00 per person Location: Pavilion Time: 4:00 PM\nBring a friend\, unwind\, and enjoy an afternoon of creativity!\n More details on sign-ups coming soon!
URL:https://rusticcreekfamilycampground.com/event/painting-party-with-andrea-recene-3/
ATTACH;FMTTYPE=image/jpeg:https://rusticcreekfamilycampground.com/wp-content/uploads/2026/01/painting-party-tent.jpeg
END:VEVENT
END:VCALENDAR