BEGIN:VCALENDAR
VERSION:2.0
PRODID:-//Rustic Creek Family Campground - ECPv6.15.20//NONSGML v1.0//EN
CALSCALE:GREGORIAN
METHOD:PUBLISH
X-ORIGINAL-URL:https://rusticcreekfamilycampground.com
X-WR-CALDESC:Events for Rustic Creek Family Campground
REFRESH-INTERVAL;VALUE=DURATION:PT1H
X-Robots-Tag:noindex
X-PUBLISHED-TTL:PT1H
BEGIN:VTIMEZONE
TZID:America/New_York
BEGIN:DAYLIGHT
TZOFFSETFROM:-0500
TZOFFSETTO:-0400
TZNAME:EDT
DTSTART:20250309T070000
END:DAYLIGHT
BEGIN:STANDARD
TZOFFSETFROM:-0400
TZOFFSETTO:-0500
TZNAME:EST
DTSTART:20251102T060000
END:STANDARD
BEGIN:DAYLIGHT
TZOFFSETFROM:-0500
TZOFFSETTO:-0400
TZNAME:EDT
DTSTART:20260308T070000
END:DAYLIGHT
BEGIN:STANDARD
TZOFFSETFROM:-0400
TZOFFSETTO:-0500
TZNAME:EST
DTSTART:20261101T060000
END:STANDARD
BEGIN:DAYLIGHT
TZOFFSETFROM:-0500
TZOFFSETTO:-0400
TZNAME:EDT
DTSTART:20270314T070000
END:DAYLIGHT
BEGIN:STANDARD
TZOFFSETFROM:-0400
TZOFFSETTO:-0500
TZNAME:EST
DTSTART:20271107T060000
END:STANDARD
END:VTIMEZONE
BEGIN:VEVENT
DTSTART;TZID=America/New_York:20260718T120000
DTEND;TZID=America/New_York:20260718T140000
DTSTAMP:20260424T144452
CREATED:20260115T154635Z
LAST-MODIFIED:20260115T154635Z
UID:1646-1784376000-1784383200@rusticcreekfamilycampground.com
SUMMARY:Whoville - Hosted by Cyndi (Site 26)
DESCRIPTION:Step into Whoville and capture some holiday magic—summer style! Join us for a fun and festive afternoon\, hosted by our seasonal guest Cyndi at Site 26.\n\n Event Highlights: Get your photo taken at a beautifully festive Whoville-themed campsite Visit with some of your favorite Christmas characters Fun for all ages and perfect for family memories\n\nWhether you’re continuing the Christmas in July fun or just love a good photo op\, be sure to stop by\, say hello\, and snap a picture you’ll treasure.
URL:https://rusticcreekfamilycampground.com/event/whoville-hosted-by-cyndi-site-26/
ATTACH;FMTTYPE=image/jpeg:https://rusticcreekfamilycampground.com/wp-content/uploads/2026/01/520407412_1312322597568174_3076602748274912651_n.jpg
END:VEVENT
BEGIN:VEVENT
DTSTART;TZID=America/New_York:20260718T160000
DTEND;TZID=America/New_York:20260718T180000
DTSTAMP:20260424T144452
CREATED:20260115T153349Z
LAST-MODIFIED:20260115T153349Z
UID:1643-1784390400-1784397600@rusticcreekfamilycampground.com
SUMMARY:Christmas in July with Northern Tier Santa
DESCRIPTION:Who says Christmas only comes once a year? Join us for our Christmas in July Weekend at Rustic Creek Family Campground\, featuring a special visit from Santa Claus himself! \n\n Event Highlights: Visit & photos with Santa Claus Fun games for all ages Gift exchange Plus more festive surprises!\n\nCelebrate the magic of Christmas with a summer twist at the pavilion\, surrounded by family\, friends\, and campground cheer. This is a favorite event for kids and adults alike!
URL:https://rusticcreekfamilycampground.com/event/christmas-in-july-with-northern-tier-santa/
ATTACH;FMTTYPE=image/jpeg:https://rusticcreekfamilycampground.com/wp-content/uploads/2026/01/520524693_1312324340901333_1484146218560687554_n.jpg
END:VEVENT
END:VCALENDAR