BEGIN:VCALENDAR
VERSION:2.0
PRODID:-//Rustic Creek Family Campground - ECPv6.15.20//NONSGML v1.0//EN
CALSCALE:GREGORIAN
METHOD:PUBLISH
X-ORIGINAL-URL:https://rusticcreekfamilycampground.com
X-WR-CALDESC:Events for Rustic Creek Family Campground
REFRESH-INTERVAL;VALUE=DURATION:PT1H
X-Robots-Tag:noindex
X-PUBLISHED-TTL:PT1H
BEGIN:VTIMEZONE
TZID:America/New_York
BEGIN:DAYLIGHT
TZOFFSETFROM:-0500
TZOFFSETTO:-0400
TZNAME:EDT
DTSTART:20250309T070000
END:DAYLIGHT
BEGIN:STANDARD
TZOFFSETFROM:-0400
TZOFFSETTO:-0500
TZNAME:EST
DTSTART:20251102T060000
END:STANDARD
BEGIN:DAYLIGHT
TZOFFSETFROM:-0500
TZOFFSETTO:-0400
TZNAME:EDT
DTSTART:20260308T070000
END:DAYLIGHT
BEGIN:STANDARD
TZOFFSETFROM:-0400
TZOFFSETTO:-0500
TZNAME:EST
DTSTART:20261101T060000
END:STANDARD
BEGIN:DAYLIGHT
TZOFFSETFROM:-0500
TZOFFSETTO:-0400
TZNAME:EDT
DTSTART:20270314T070000
END:DAYLIGHT
BEGIN:STANDARD
TZOFFSETFROM:-0400
TZOFFSETTO:-0500
TZNAME:EST
DTSTART:20271107T060000
END:STANDARD
END:VTIMEZONE
BEGIN:VEVENT
DTSTART;TZID=America/New_York:20260703T140000
DTEND;TZID=America/New_York:20260705T120000
DTSTAMP:20260424T125625
CREATED:20260114T195748Z
LAST-MODIFIED:20260115T143400Z
UID:1625-1783087200-1783252800@rusticcreekfamilycampground.com
SUMMARY:4th of July Weekend Basket Raffle Donation Drop-Off
DESCRIPTION:We need your help to make our 4th of July Weekend Basket Raffle a continued success! \n\nIf you’re donating a basket or raffle item\, please bring it to the Camp Store during the times listed below.\n\n Donation Details: Baskets & raffle items of all kinds are welcome Drop off at the Camp Store Drop off between Friday 2:00 PM – Sunday 12:00 PM\n\nYour generosity helps make this event fun\, exciting\, and memorable for everyone at Rustic Creek Family Campground. We truly appreciate all of our guests who contribute year after year!\n Thank you for helping support one of our favorite 4th of July Weekend traditions!
URL:https://rusticcreekfamilycampground.com/event/4th-of-july-weekend-basket-raffled-donation-drop-off/
ATTACH;FMTTYPE=image/webp:https://rusticcreekfamilycampground.com/wp-content/uploads/2026/01/Holidaysocial20242.webp
END:VEVENT
BEGIN:VEVENT
DTSTART;TZID=America/New_York:20260703T140000
DTEND;TZID=America/New_York:20260706T120000
DTSTAMP:20260424T125625
CREATED:20260114T195121Z
LAST-MODIFIED:20260114T195121Z
UID:1622-1783087200-1783339200@rusticcreekfamilycampground.com
SUMMARY:4th of July Weekend
DESCRIPTION:Celebrate Independence Day at Rustic Creek Family Campground! Join us for a weekend full of fun\, family\, and fireworks. This year’s 4th of July Weekend will be bigger and better than ever! \n\n Weekend Highlights: Annual 4th of July Basket Raffle – Tons of great prizes! Huge Fireworks Display lighting up the night sky Live Music & Entertainment Campfires\, activities\, and more surprises\n\nBring your family and friends\, enjoy the festive atmosphere\, and make memories that will last a lifetime. This is one of our most anticipated weekends of the season!
URL:https://rusticcreekfamilycampground.com/event/4th-of-july-weekend-2/
ATTACH;FMTTYPE=image/png:https://rusticcreekfamilycampground.com/wp-content/uploads/2026/01/a066e505-4a2f-48b3-b154-48e0baa28627.png
END:VEVENT
BEGIN:VEVENT
DTSTART;TZID=America/New_York:20260705T140000
DTEND;TZID=America/New_York:20260705T160000
DTSTAMP:20260424T125625
CREATED:20260114T202208Z
LAST-MODIFIED:20260114T202208Z
UID:1632-1783260000-1783267200@rusticcreekfamilycampground.com
SUMMARY:4th of July Weekend Basket Raffle
DESCRIPTION:Join us at the pavilion for our 4th of July Weekend Basket Raffle at Rustic Creek Family Campground—one of the most exciting events of the weekend!\n\n Event Highlights:\n Tons of great baskets and prizes Featured prizes will be announced soon—stay tuned! Tickets go on sale at 2:00 PM Raffle drawings begin at 3:00 PM\n\nStop by the pavilion\, grab your tickets\, and enjoy the fun as we draw winners. It’s a great way to celebrate 4th of July Weekend and maybe take home something awesome!
URL:https://rusticcreekfamilycampground.com/event/4th-of-july-weekend-basket-raffle/
ATTACH;FMTTYPE=image/jpeg:https://rusticcreekfamilycampground.com/wp-content/uploads/2026/01/d1bc01002d67d63f2503a9d3e9838e66.jpg
END:VEVENT
BEGIN:VEVENT
DTSTART;TZID=America/New_York:20260705T203000
DTEND;TZID=America/New_York:20260705T213000
DTSTAMP:20260424T125625
CREATED:20260114T201610Z
LAST-MODIFIED:20260114T201610Z
UID:1630-1783283400-1783287000@rusticcreekfamilycampground.com
SUMMARY:Fireworks Display by Zy Pyrotechnics d.b.a. Skyshooter Displays
DESCRIPTION:Celebrate 4th of July Weekend with an amazing fireworks display at Rustic Creek Family Campground! We’re excited to welcome Zy Pyrotechnics d.b.a. Skyshooter Displays for a spectacular show that will light up the night sky.\n\n Details: Professionally produced fireworks display\, presented by Zy Pyrotechnics (Skyshooter Displays) Show starts at dusk Exclusive event for Rustic Creek Family Campground guests only\n\nGather with family and friends\, find a cozy spot\, and enjoy one of the most anticipated moments of the weekend. This is a must-see highlight of the season and a perfect way to honor the holiday together.\n\nWeather permitting. Please follow all campground rules and staff instructions for safety.
URL:https://rusticcreekfamilycampground.com/event/fireworks-display-by-zy-pyrotechnics-d-b-a-skyshooter-displays-2/
ATTACH;FMTTYPE=image/jpeg:https://rusticcreekfamilycampground.com/wp-content/uploads/2024/04/422320834_876874741112964_29002348343531964_n.jpg
END:VEVENT
END:VCALENDAR