BEGIN:VCALENDAR
VERSION:2.0
PRODID:-//Rustic Creek Family Campground - ECPv6.15.20//NONSGML v1.0//EN
CALSCALE:GREGORIAN
METHOD:PUBLISH
X-ORIGINAL-URL:https://rusticcreekfamilycampground.com
X-WR-CALDESC:Events for Rustic Creek Family Campground
REFRESH-INTERVAL;VALUE=DURATION:PT1H
X-Robots-Tag:noindex
X-PUBLISHED-TTL:PT1H
BEGIN:VTIMEZONE
TZID:America/New_York
BEGIN:DAYLIGHT
TZOFFSETFROM:-0500
TZOFFSETTO:-0400
TZNAME:EDT
DTSTART:20250309T070000
END:DAYLIGHT
BEGIN:STANDARD
TZOFFSETFROM:-0400
TZOFFSETTO:-0500
TZNAME:EST
DTSTART:20251102T060000
END:STANDARD
BEGIN:DAYLIGHT
TZOFFSETFROM:-0500
TZOFFSETTO:-0400
TZNAME:EDT
DTSTART:20260308T070000
END:DAYLIGHT
BEGIN:STANDARD
TZOFFSETFROM:-0400
TZOFFSETTO:-0500
TZNAME:EST
DTSTART:20261101T060000
END:STANDARD
BEGIN:DAYLIGHT
TZOFFSETFROM:-0500
TZOFFSETTO:-0400
TZNAME:EDT
DTSTART:20270314T070000
END:DAYLIGHT
BEGIN:STANDARD
TZOFFSETFROM:-0400
TZOFFSETTO:-0500
TZNAME:EST
DTSTART:20271107T060000
END:STANDARD
END:VTIMEZONE
BEGIN:VEVENT
DTSTART;TZID=America/New_York:20260522T140000
DTEND;TZID=America/New_York:20260524T120000
DTSTAMP:20260424T114730
CREATED:20260114T193341Z
LAST-MODIFIED:20260114T193742Z
UID:1619-1779458400-1779624000@rusticcreekfamilycampground.com
SUMMARY:Memorial Day Weekend Basket Raffle Donation Drop-Off
DESCRIPTION:We need your help to make our Memorial Day Weekend Basket Raffle a continued success! \n\nIf you’re donating a basket or raffle item\, please bring it to the Camp Store during the times listed below.\n\n Donation Details: Baskets & raffle items of all kinds are welcome Drop off at the Camp Store Drop off between Friday 2:00 PM – Sunday 12:00 PM\n\nYour generosity helps make this event fun\, exciting\, and memorable for everyone at Rustic Creek Family Campground. We truly appreciate all of our guests who contribute year after year!\n Thank you for helping support one of our favorite Memorial Day Weekend traditions!
URL:https://rusticcreekfamilycampground.com/event/memorial-day-weekend-basket-raffle-donation-drop-off/
ATTACH;FMTTYPE=image/webp:https://rusticcreekfamilycampground.com/wp-content/uploads/2026/01/Holidaysocial20242.webp
END:VEVENT
BEGIN:VEVENT
DTSTART;TZID=America/New_York:20260522T140000
DTEND;TZID=America/New_York:20260525T120000
DTSTAMP:20260424T114730
CREATED:20260114T165005Z
LAST-MODIFIED:20260114T165005Z
UID:1591-1779458400-1779710400@rusticcreekfamilycampground.com
SUMMARY:Memorial Day Weekend
DESCRIPTION:Kick off summer with an unforgettable Memorial Day Weekend at Rustic Creek Family Campground! Join us for a fun-filled weekend packed with entertainment\, family fun\, and amazing memories.\n\n Event Highlights: HUGE Fireworks Display Live Music Campfire fun\, great vibes & more surprises throughout the weekend\n\nBring your family\, invite your friends\, and celebrate the holiday surrounded by nature\, music\, and excitement. This is one of our biggest weekends of the season—you won’t want to miss it!\n\nMore details to come!
URL:https://rusticcreekfamilycampground.com/event/memorial-day-weekend-2/
ATTACH;FMTTYPE=image/jpeg:https://rusticcreekfamilycampground.com/wp-content/uploads/2026/01/happy-memorial-day-clipart-73yaa.jpg
END:VEVENT
BEGIN:VEVENT
DTSTART;TZID=America/New_York:20260524T140000
DTEND;TZID=America/New_York:20260524T160000
DTSTAMP:20260424T114730
CREATED:20260114T190102Z
LAST-MODIFIED:20260114T190102Z
UID:1616-1779631200-1779638400@rusticcreekfamilycampground.com
SUMMARY:Memorial Day Weekend Basket Raffle
DESCRIPTION:Join us at the pavilion for our Memorial Day Weekend Basket Raffle at Rustic Creek Family Campground—one of the most exciting events of the weekend!\n\n Event Highlights:\n Tons of great baskets and prizes Featured prizes will be announced soon—stay tuned! Tickets go on sale at 2:00 PM Raffle drawings begin at 3:00 PM\n\nStop by the pavilion\, grab your tickets\, and enjoy the fun as we draw winners. It’s a great way to celebrate Memorial Day Weekend and maybe take home something awesome!
URL:https://rusticcreekfamilycampground.com/event/memorial-day-weekend-basket-raffle-2/
ATTACH;FMTTYPE=image/jpeg:https://rusticcreekfamilycampground.com/wp-content/uploads/2026/01/d1bc01002d67d63f2503a9d3e9838e66.jpg
END:VEVENT
END:VCALENDAR