BEGIN:VCALENDAR
VERSION:2.0
PRODID:-//Rustic Creek Family Campground - ECPv6.15.20//NONSGML v1.0//EN
CALSCALE:GREGORIAN
METHOD:PUBLISH
X-WR-CALNAME:Rustic Creek Family Campground
X-ORIGINAL-URL:https://rusticcreekfamilycampground.com
X-WR-CALDESC:Events for Rustic Creek Family Campground
REFRESH-INTERVAL;VALUE=DURATION:PT1H
X-Robots-Tag:noindex
X-PUBLISHED-TTL:PT1H
BEGIN:VTIMEZONE
TZID:America/New_York
BEGIN:DAYLIGHT
TZOFFSETFROM:-0500
TZOFFSETTO:-0400
TZNAME:EDT
DTSTART:20240310T070000
END:DAYLIGHT
BEGIN:STANDARD
TZOFFSETFROM:-0400
TZOFFSETTO:-0500
TZNAME:EST
DTSTART:20241103T060000
END:STANDARD
BEGIN:DAYLIGHT
TZOFFSETFROM:-0500
TZOFFSETTO:-0400
TZNAME:EDT
DTSTART:20250309T070000
END:DAYLIGHT
BEGIN:STANDARD
TZOFFSETFROM:-0400
TZOFFSETTO:-0500
TZNAME:EST
DTSTART:20251102T060000
END:STANDARD
BEGIN:DAYLIGHT
TZOFFSETFROM:-0500
TZOFFSETTO:-0400
TZNAME:EDT
DTSTART:20260308T070000
END:DAYLIGHT
BEGIN:STANDARD
TZOFFSETFROM:-0400
TZOFFSETTO:-0500
TZNAME:EST
DTSTART:20261101T060000
END:STANDARD
END:VTIMEZONE
BEGIN:VEVENT
DTSTART;TZID=America/New_York:20251017T140000
DTEND;TZID=America/New_York:20251019T120000
DTSTAMP:20260424T193747
CREATED:20240418T160740Z
LAST-MODIFIED:20250310T135708Z
UID:1299-1760709600-1760875200@rusticcreekfamilycampground.com
SUMMARY:Seasonal Closing Weekend
DESCRIPTION:What an incredible year it’s been at Rustic Creek Family Campground! While all good things must eventually come to an end\, we’re already looking forward to next season! Don’t forget\, Rustic Creek is open year-round\, so if the winter blues start creeping in\, give us a call and come visit – we’d love to have you! \nA friendly reminder to all our seasonal guests: please ensure that all personal items are removed from your site. Rustic Creek Family Campground is not responsible for any items left behind during the winter season.
URL:https://rusticcreekfamilycampground.com/event/seasonal-closing-weekend/
LOCATION:Rustic Creek Family Campground\, 30 Vacation Lane\, Tunkhannock\, 18657\, United States
ATTACH;FMTTYPE=image/jpeg:https://rusticcreekfamilycampground.com/wp-content/uploads/2024/04/OIP.jpg
END:VEVENT
END:VCALENDAR