BEGIN:VCALENDAR
VERSION:2.0
PRODID:-//Rustic Creek Family Campground - ECPv6.15.20//NONSGML v1.0//EN
CALSCALE:GREGORIAN
METHOD:PUBLISH
X-ORIGINAL-URL:https://rusticcreekfamilycampground.com
X-WR-CALDESC:Events for Rustic Creek Family Campground
REFRESH-INTERVAL;VALUE=DURATION:PT1H
X-Robots-Tag:noindex
X-PUBLISHED-TTL:PT1H
BEGIN:VTIMEZONE
TZID:America/New_York
BEGIN:DAYLIGHT
TZOFFSETFROM:-0500
TZOFFSETTO:-0400
TZNAME:EDT
DTSTART:20240310T070000
END:DAYLIGHT
BEGIN:STANDARD
TZOFFSETFROM:-0400
TZOFFSETTO:-0500
TZNAME:EST
DTSTART:20241103T060000
END:STANDARD
BEGIN:DAYLIGHT
TZOFFSETFROM:-0500
TZOFFSETTO:-0400
TZNAME:EDT
DTSTART:20250309T070000
END:DAYLIGHT
BEGIN:STANDARD
TZOFFSETFROM:-0400
TZOFFSETTO:-0500
TZNAME:EST
DTSTART:20251102T060000
END:STANDARD
BEGIN:DAYLIGHT
TZOFFSETFROM:-0500
TZOFFSETTO:-0400
TZNAME:EDT
DTSTART:20260308T070000
END:DAYLIGHT
BEGIN:STANDARD
TZOFFSETFROM:-0400
TZOFFSETTO:-0500
TZNAME:EST
DTSTART:20261101T060000
END:STANDARD
END:VTIMEZONE
BEGIN:VEVENT
DTSTART;TZID=America/New_York:20251010T140000
DTEND;TZID=America/New_York:20251012T120000
DTSTAMP:20260424T193836
CREATED:20240418T155138Z
LAST-MODIFIED:20250310T141914Z
UID:1276-1760104800-1760270400@rusticcreekfamilycampground.com
SUMMARY:Halloween Weekend #2
DESCRIPTION:Join us for Halloween Weekend #2 at Rustic Creek Family Campground\, where the spirit of Halloween comes to life in the most thrilling and family-friendly way! This weekend promises exciting activities\, eerie decorations\, and unforgettable memories for guests of all ages. \nFrom spooky campsite contests to festive hayrides\, there’s something for everyone to enjoy. Dress up in your favorite costumes and take part in our fun-filled events\, including a pet costume contest and a competitive site decorating contest. Kids and adults alike will enjoy the seasonal fun\, while our hauntingly beautiful campground provides the perfect backdrop for a weekend of adventure. \nDon’t miss out on special Halloween-themed activities\, haunted attractions\, and an evening of trick-or-treating throughout the campground. Whether you’re here to relax or get into the spooky spirit\, Rustic Creek Family Campground is the ultimate destination for Halloween fun. \nCome make lasting memories with family and friends at this spooktacular celebration—it’s sure to be an experience you won’t forget!
URL:https://rusticcreekfamilycampground.com/event/halloween-weekend-2-2/
LOCATION:Rustic Creek Family Campground\, 30 Vacation Lane\, Tunkhannock\, 18657\, United States
ATTACH;FMTTYPE=image/jpeg:https://rusticcreekfamilycampground.com/wp-content/uploads/2024/04/421555684_877214727745632_3677625723276319338_n.jpg
END:VEVENT
BEGIN:VEVENT
DTSTART;TZID=America/New_York:20251011T120000
DTEND;TZID=America/New_York:20251011T140000
DTSTAMP:20260424T193836
CREATED:20240418T155350Z
LAST-MODIFIED:20250310T141347Z
UID:1281-1760184000-1760191200@rusticcreekfamilycampground.com
SUMMARY:Halloween Activities
DESCRIPTION:Please join in the Pavilion for a fun filled afternoon of SPOOKTACULAR EVENTS planned.
URL:https://rusticcreekfamilycampground.com/event/halloween-activities-hosted-by-sara-monica-and-keri-2/
LOCATION:Rustic Creek Family Campground\, 30 Vacation Lane\, Tunkhannock\, 18657\, United States
ATTACH;FMTTYPE=image/jpeg:https://rusticcreekfamilycampground.com/wp-content/uploads/2024/04/421524217_877219144411857_247198176780825533_n.jpg
END:VEVENT
BEGIN:VEVENT
DTSTART;TZID=America/New_York:20251011T140000
DTEND;TZID=America/New_York:20251011T150000
DTSTAMP:20260424T193836
CREATED:20240418T155533Z
LAST-MODIFIED:20250310T141151Z
UID:1283-1760191200-1760194800@rusticcreekfamilycampground.com
SUMMARY:Halloween Pet Costume Contest - Hosted by Ron and Tara
DESCRIPTION:Get ready for a spooktacular time! Dress your pet in their most creative Halloween costume and join in the fun by dressing up yourself! \nHead over to the Pavilion for a fun-filled afternoon of costume viewing and photo opportunities. Please note\, all dogs must be leashed during the event for safety. Photos will be taken and featured on our website\, so get ready to shine! Our esteemed judges will review the entries and announce the winner at the end of the event. \nDon’t have a pet? No worries! Feel free to bring a lawn chair and enjoy the show from the sidelines. \nDon’t miss out on the fun—come be part of this exciting Halloween celebration!
URL:https://rusticcreekfamilycampground.com/event/halloween-pet-costume-contest-hosted-by-ron-and-tara/
LOCATION:Rustic Creek Family Campground\, 30 Vacation Lane\, Tunkhannock\, 18657\, United States
ATTACH;FMTTYPE=image/jpeg:https://rusticcreekfamilycampground.com/wp-content/uploads/2024/04/421580540_877223521078086_8334951519240054698_n.jpg
END:VEVENT
BEGIN:VEVENT
DTSTART;TZID=America/New_York:20251011T170000
DTEND;TZID=America/New_York:20251011T190000
DTSTAMP:20260424T193836
CREATED:20240418T155741Z
LAST-MODIFIED:20250310T142402Z
UID:1288-1760202000-1760209200@rusticcreekfamilycampground.com
SUMMARY:Halloween Trick-or-Treating
DESCRIPTION:Get ready for a spooktacular Trick-or-Treating adventure at Rustic Creek Family Campground! This exclusive event\, open only to our campers\, invites you to roam from site to site\, collecting delicious treats and showing off your best tricks. It’s the perfect way to celebrate Halloween with fellow campers in a fun and festive atmosphere! \nWhile this event is reserved for our campers\, guests are welcome to visit on this exciting day. Please remember\, all visitors must check in at the camp store and pay a $5.00 fee before heading to your site. \nDon’t miss out on this unforgettable Halloween experience—join us for a day of treats\, tricks\, and spooky fun!
URL:https://rusticcreekfamilycampground.com/event/halloween-trick-or-treating-4/
LOCATION:Rustic Creek Family Campground\, 30 Vacation Lane\, Tunkhannock\, 18657\, United States
ATTACH;FMTTYPE=image/jpeg:https://rusticcreekfamilycampground.com/wp-content/uploads/2023/02/314370150_536261078507667_9182524552790850524_n.jpg
END:VEVENT
BEGIN:VEVENT
DTSTART;TZID=America/New_York:20251011T190000
DTEND;TZID=America/New_York:20251011T210000
DTSTAMP:20260424T193836
CREATED:20240418T160235Z
LAST-MODIFIED:20250310T140715Z
UID:1297-1760209200-1760216400@rusticcreekfamilycampground.com
SUMMARY:Haunted Hay Ride
DESCRIPTION:Hop aboard the Rustic Creek Family Campground Haunted Hayride—if you dare—and prepare yourself for a spine-chilling adventure through the park! Who knows what creepy creatures and eerie surprises await you in the dark… \nThis event is by invitation only\, so don’t miss your chance to experience the thrill! Weather permitting\, of course…
URL:https://rusticcreekfamilycampground.com/event/haunted-hay-ride-4/
LOCATION:Rustic Creek Family Campground\, 30 Vacation Lane\, Tunkhannock\, 18657\, United States
ATTACH;FMTTYPE=image/jpeg:https://rusticcreekfamilycampground.com/wp-content/uploads/2023/02/314430940_536263205174121_901171009539796122_n.jpg
END:VEVENT
BEGIN:VEVENT
DTSTART;TZID=America/New_York:20251011T213000
DTEND;TZID=America/New_York:20251011T220000
DTSTAMP:20260424T193836
CREATED:20240418T160052Z
LAST-MODIFIED:20250310T140747Z
UID:1293-1760218200-1760220000@rusticcreekfamilycampground.com
SUMMARY:Halloween Site Decorating Awards Presented
DESCRIPTION:🎃👻 Who Will Win the Halloween Site Decorating Belt for 2025?! 👻🎃 \nGet ready for a spook-tacular time at Rustic Creek Family Campground! Not only do we have the Haunted Hayride if you dare—but we’re also kicking off the Halloween fun with a Halloween Site Decorating Contest! 🎃 \n🏆 The prize? The coveted Halloween Site Decorating Belt\, generously donated by our amazing seasonal site decorators\, Mr. and Mrs. Donald Miller and Mr. and Mrs. George Stoss! Will YOU have the most frighteningly fabulous site and take home the bragging rights for 2025? 🏆 \nCome join the fun\, embrace the spooky spirit\, and see if you can take home the title! You won’t be disappointed! 🎃🎉 \nEvent details: Weather permitting. \nLet the decorating begin! 🕸️👀 \n \n 
URL:https://rusticcreekfamilycampground.com/event/halloween-site-decorating-awards-presented-4/
LOCATION:Rustic Creek Family Campground\, 30 Vacation Lane\, Tunkhannock\, 18657\, United States
ATTACH;FMTTYPE=image/jpeg:https://rusticcreekfamilycampground.com/wp-content/uploads/2024/04/421569746_877219737745131_4071770131332779256_n.jpg
END:VEVENT
END:VCALENDAR