BEGIN:VCALENDAR
VERSION:2.0
PRODID:-//Rustic Creek Family Campground - ECPv6.15.20//NONSGML v1.0//EN
CALSCALE:GREGORIAN
METHOD:PUBLISH
X-WR-CALNAME:Rustic Creek Family Campground
X-ORIGINAL-URL:https://rusticcreekfamilycampground.com
X-WR-CALDESC:Events for Rustic Creek Family Campground
REFRESH-INTERVAL;VALUE=DURATION:PT1H
X-Robots-Tag:noindex
X-PUBLISHED-TTL:PT1H
BEGIN:VTIMEZONE
TZID:America/New_York
BEGIN:DAYLIGHT
TZOFFSETFROM:-0500
TZOFFSETTO:-0400
TZNAME:EDT
DTSTART:20240310T070000
END:DAYLIGHT
BEGIN:STANDARD
TZOFFSETFROM:-0400
TZOFFSETTO:-0500
TZNAME:EST
DTSTART:20241103T060000
END:STANDARD
BEGIN:DAYLIGHT
TZOFFSETFROM:-0500
TZOFFSETTO:-0400
TZNAME:EDT
DTSTART:20250309T070000
END:DAYLIGHT
BEGIN:STANDARD
TZOFFSETFROM:-0400
TZOFFSETTO:-0500
TZNAME:EST
DTSTART:20251102T060000
END:STANDARD
BEGIN:DAYLIGHT
TZOFFSETFROM:-0500
TZOFFSETTO:-0400
TZNAME:EDT
DTSTART:20260308T070000
END:DAYLIGHT
BEGIN:STANDARD
TZOFFSETFROM:-0400
TZOFFSETTO:-0500
TZNAME:EST
DTSTART:20261101T060000
END:STANDARD
END:VTIMEZONE
BEGIN:VEVENT
DTSTART;TZID=America/New_York:20250906T140000
DTEND;TZID=America/New_York:20250906T160000
DTSTAMP:20260424T210601
CREATED:20250312T153125Z
LAST-MODIFIED:20250312T153125Z
UID:1566-1757167200-1757174400@rusticcreekfamilycampground.com
SUMMARY:Stained Glass Workshop - with Renee Sands
DESCRIPTION:✨ Stained Glass Workshop ✨\nHosted by: Rustic Creek Family Campground & Renee Sands\n📅 Date: September 6th\n⏰ Time: 2:00 PM\n📍 Location: Pavilion\, Rustic Creek Family Campground \nUnleash your creativity in this hands-on Stained Glass Workshop led by the talented Renee Sands! Learn the timeless art of stained glass\, where you’ll craft your own beautiful\, one-of-a-kind piece. Perfect for beginners and seasoned artists alike\, this intimate workshop promises a rewarding and educational experience. 🌈🎨 \n🔹 Cost: $55 (due at sign-up)\n🔹 Sign-up Deadline: August 23rd\n🔹 Class Size: Limited to 15 guests for a personalized experience \nSpaces are limited—secure your spot today and let your creativity shine! \n🎨 To sign up\, visit the camp store.
URL:https://rusticcreekfamilycampground.com/event/stained-glass-workshop-with-renee-sands-4/
LOCATION:Rustic Creek Family Campground\, 30 Vacation Lane\, Tunkhannock\, 18657\, United States
ATTACH;FMTTYPE=image/jpeg:https://rusticcreekfamilycampground.com/wp-content/uploads/2025/03/september-stained-glass.jpg
END:VEVENT
END:VCALENDAR