BEGIN:VCALENDAR
VERSION:2.0
PRODID:-//Rustic Creek Family Campground - ECPv6.15.20//NONSGML v1.0//EN
CALSCALE:GREGORIAN
METHOD:PUBLISH
X-WR-CALNAME:Rustic Creek Family Campground
X-ORIGINAL-URL:https://rusticcreekfamilycampground.com
X-WR-CALDESC:Events for Rustic Creek Family Campground
REFRESH-INTERVAL;VALUE=DURATION:PT1H
X-Robots-Tag:noindex
X-PUBLISHED-TTL:PT1H
BEGIN:VTIMEZONE
TZID:America/New_York
BEGIN:DAYLIGHT
TZOFFSETFROM:-0500
TZOFFSETTO:-0400
TZNAME:EDT
DTSTART:20240310T070000
END:DAYLIGHT
BEGIN:STANDARD
TZOFFSETFROM:-0400
TZOFFSETTO:-0500
TZNAME:EST
DTSTART:20241103T060000
END:STANDARD
BEGIN:DAYLIGHT
TZOFFSETFROM:-0500
TZOFFSETTO:-0400
TZNAME:EDT
DTSTART:20250309T070000
END:DAYLIGHT
BEGIN:STANDARD
TZOFFSETFROM:-0400
TZOFFSETTO:-0500
TZNAME:EST
DTSTART:20251102T060000
END:STANDARD
BEGIN:DAYLIGHT
TZOFFSETFROM:-0500
TZOFFSETTO:-0400
TZNAME:EDT
DTSTART:20260308T070000
END:DAYLIGHT
BEGIN:STANDARD
TZOFFSETFROM:-0400
TZOFFSETTO:-0500
TZNAME:EST
DTSTART:20261101T060000
END:STANDARD
END:VTIMEZONE
BEGIN:VEVENT
DTSTART;TZID=America/New_York:20250829T140000
DTEND;TZID=America/New_York:20250901T120000
DTSTAMP:20260424T223655
CREATED:20240418T154314Z
LAST-MODIFIED:20250310T152246Z
UID:1261-1756476000-1756728000@rusticcreekfamilycampground.com
SUMMARY:Labor Day Weekend
DESCRIPTION:Join us at Rustic Creek Family Campground for our spectacular Labor Day Weekend Celebration! This weekend is packed with exciting events for the whole family. Enjoy live music by the talented Alibi\, guaranteed to keep you dancing all night long! \nThe fun doesn’t stop there—experience an incredible fireworks display by Zy Pyrotechnics\, lighting up the sky in a stunning finale to the weekend’s festivities. \nWith entertainment\, music\, and a breathtaking fireworks show\, this is the perfect way to celebrate the holiday weekend. We can’t wait to celebrate with you!
URL:https://rusticcreekfamilycampground.com/event/labor-day-weekend/
LOCATION:Rustic Creek Family Campground\, 30 Vacation Lane\, Tunkhannock\, 18657\, United States
ATTACH;FMTTYPE=image/jpeg:https://rusticcreekfamilycampground.com/wp-content/uploads/2024/04/422332181_876886384445133_3778568294427369446_n.jpg
END:VEVENT
BEGIN:VEVENT
DTSTART;TZID=America/New_York:20250830T120000
DTEND;TZID=America/New_York:20250830T200000
DTSTAMP:20260424T223655
CREATED:20240418T143754Z
LAST-MODIFIED:20250310T152857Z
UID:1166-1756555200-1756584000@rusticcreekfamilycampground.com
SUMMARY:Basket Raffle Donation Drop-Off
DESCRIPTION:We need your support to make our Labor Day Weekend Basket Raffle a success! There are many baskets to fill\, and we would greatly appreciate any donations or items you can contribute to help us. \nDonations will be accepted at the Campground Store from Noon to 8:00 p.m. \nTickets for the Basket Raffle will be available for purchase on Sunday\, 8/31 starting at 2:00 p.m. at the Pavilion. \nThis event is open to all\, and we encourage everyone to get involved and participate in this exciting opportunity to support a great cause. Your generosity makes a difference—thank you for helping us make this fundraiser a success!
URL:https://rusticcreekfamilycampground.com/event/basket-raffle-donation-drop-off-6/
LOCATION:Rustic Creek Family Campground\, 30 Vacation Lane\, Tunkhannock\, 18657\, United States
ATTACH;FMTTYPE=image/jpeg:https://rusticcreekfamilycampground.com/wp-content/uploads/2023/02/314377003_536257678508007_1829119989529867688_n.jpg
END:VEVENT
BEGIN:VEVENT
DTSTART;TZID=America/New_York:20250830T190000
DTEND;TZID=America/New_York:20250830T220000
DTSTAMP:20260424T223655
CREATED:20240418T153329Z
LAST-MODIFIED:20250310T151851Z
UID:1247-1756580400-1756591200@rusticcreekfamilycampground.com
SUMMARY:Alibi Returns to Rustic Creek Family Campground - Labor Day Weekend
DESCRIPTION:Reserve your spot now—sites are filling up fast! We had an incredible time the last time Alibi performed here\, and this next event is sure to be another unforgettable night of music and fun! \nThis event is FREE for all guests staying at Rustic Creek Family Campground. If you’re not staying with us but want to enjoy an evening of amazing live music\, we welcome you to join us for just a $5.00 visitor fee. All guests must check in at the campground store before 8:00 p.m. to access the event. \nDon’t miss out—come enjoy an exciting night of entertainment with great music and a fantastic atmosphere!
URL:https://rusticcreekfamilycampground.com/event/alibi-returns-to-rustic-creek-family-campground-labor-day-weekend/
LOCATION:Rustic Creek Family Campground\, 30 Vacation Lane\, Tunkhannock\, 18657\, United States
ATTACH;FMTTYPE=image/jpeg:https://rusticcreekfamilycampground.com/wp-content/uploads/2024/04/415001775_881318583993846_2958318198579447121_n.jpg
END:VEVENT
BEGIN:VEVENT
DTSTART;TZID=America/New_York:20250830T210000
DTEND;TZID=America/New_York:20250830T213000
DTSTAMP:20260424T223655
CREATED:20240418T154425Z
LAST-MODIFIED:20250310T151540Z
UID:1264-1756587600-1756589400@rusticcreekfamilycampground.com
SUMMARY:Fireworks Display by Zy Pyrotechnics
DESCRIPTION:Rustic Creek Family Campground is thrilled to invite all of our guests to our Annual Labor Day Fireworks Display! Join us for an unforgettable evening as the sky lights up with spectacular fireworks\, beginning promptly at dusk. \nFor everyone’s safety and enjoyment\, please note that no entry or exit from the park will be permitted during the fireworks display until it has concluded. \nDon’t miss out on this incredible holiday tradition—it’s the perfect way to celebrate the end of summer with family\, friends\, and fellow campers!
URL:https://rusticcreekfamilycampground.com/event/fireworks-by-zy-pyrotechnics-3/
LOCATION:Rustic Creek Family Campground\, 30 Vacation Lane\, Tunkhannock\, 18657\, United States
ATTACH;FMTTYPE=image/jpeg:https://rusticcreekfamilycampground.com/wp-content/uploads/2024/04/422320834_876874741112964_29002348343531964_n.jpg
END:VEVENT
END:VCALENDAR