BEGIN:VCALENDAR
VERSION:2.0
PRODID:-//Rustic Creek Family Campground - ECPv6.15.20//NONSGML v1.0//EN
CALSCALE:GREGORIAN
METHOD:PUBLISH
X-ORIGINAL-URL:https://rusticcreekfamilycampground.com
X-WR-CALDESC:Events for Rustic Creek Family Campground
REFRESH-INTERVAL;VALUE=DURATION:PT1H
X-Robots-Tag:noindex
X-PUBLISHED-TTL:PT1H
BEGIN:VTIMEZONE
TZID:America/New_York
BEGIN:DAYLIGHT
TZOFFSETFROM:-0500
TZOFFSETTO:-0400
TZNAME:EDT
DTSTART:20240310T070000
END:DAYLIGHT
BEGIN:STANDARD
TZOFFSETFROM:-0400
TZOFFSETTO:-0500
TZNAME:EST
DTSTART:20241103T060000
END:STANDARD
BEGIN:DAYLIGHT
TZOFFSETFROM:-0500
TZOFFSETTO:-0400
TZNAME:EDT
DTSTART:20250309T070000
END:DAYLIGHT
BEGIN:STANDARD
TZOFFSETFROM:-0400
TZOFFSETTO:-0500
TZNAME:EST
DTSTART:20251102T060000
END:STANDARD
BEGIN:DAYLIGHT
TZOFFSETFROM:-0500
TZOFFSETTO:-0400
TZNAME:EDT
DTSTART:20260308T070000
END:DAYLIGHT
BEGIN:STANDARD
TZOFFSETFROM:-0400
TZOFFSETTO:-0500
TZNAME:EST
DTSTART:20261101T060000
END:STANDARD
END:VTIMEZONE
BEGIN:VEVENT
DTSTART;TZID=America/New_York:20250718T140000
DTEND;TZID=America/New_York:20250720T120000
DTSTAMP:20260425T001008
CREATED:20240418T152656Z
LAST-MODIFIED:20250310T154913Z
UID:1238-1752847200-1753012800@rusticcreekfamilycampground.com
SUMMARY:Christmas in July Weekend
DESCRIPTION:Join us for our Christmas in July Celebration at Rustic Creek Family Campground! Get into the holiday spirit with a series of exciting events\, including a special visit from Santa himself! Experience the magic of the season with our Christmas Get Together\, where we’ll enjoy festive fun and create lasting memories. \nBring your holiday cheer and take part in our gift exchange\, spreading the joy of giving among friends and fellow campers. It’s the perfect way to celebrate Christmas in the summer—don’t miss out on this unforgettable event!
URL:https://rusticcreekfamilycampground.com/event/christmas-in-july-weekend-2/
LOCATION:Rustic Creek Family Campground\, 30 Vacation Lane\, Tunkhannock\, 18657\, United States
ATTACH;FMTTYPE=image/jpeg:https://rusticcreekfamilycampground.com/wp-content/uploads/2023/02/314407052_536266678507107_7671457213215562216_n.jpg
END:VEVENT
BEGIN:VEVENT
DTSTART;TZID=America/New_York:20250719T140000
DTEND;TZID=America/New_York:20250719T160000
DTSTAMP:20260425T001008
CREATED:20240418T152909Z
LAST-MODIFIED:20250313T135350Z
UID:1242-1752933600-1752940800@rusticcreekfamilycampground.com
SUMMARY:Pictures with Santa and Gift Exchange
DESCRIPTION:Come visit Santa at Rustic Creek Family Campground for a magical holiday experience! Have your picture taken with Santa and receive a special gift to spread the festive cheer. \nGifts can be dropped off at the store on Friday\, so don’t miss the chance to make this holiday season extra special. We can’t wait to see you there and create lasting memories together!
URL:https://rusticcreekfamilycampground.com/event/pictures-with-santa-and-gift-exchange-2/
LOCATION:Rustic Creek Family Campground\, 30 Vacation Lane\, Tunkhannock\, 18657\, United States
ATTACH;FMTTYPE=image/jpeg:https://rusticcreekfamilycampground.com/wp-content/uploads/2023/02/314532771_536268208506954_4998389562773732449_n.jpg
END:VEVENT
END:VCALENDAR