BEGIN:VCALENDAR
VERSION:2.0
PRODID:-//Rustic Creek Family Campground - ECPv6.15.20//NONSGML v1.0//EN
CALSCALE:GREGORIAN
METHOD:PUBLISH
X-WR-CALNAME:Rustic Creek Family Campground
X-ORIGINAL-URL:https://rusticcreekfamilycampground.com
X-WR-CALDESC:Events for Rustic Creek Family Campground
REFRESH-INTERVAL;VALUE=DURATION:PT1H
X-Robots-Tag:noindex
X-PUBLISHED-TTL:PT1H
BEGIN:VTIMEZONE
TZID:America/New_York
BEGIN:DAYLIGHT
TZOFFSETFROM:-0500
TZOFFSETTO:-0400
TZNAME:EDT
DTSTART:20240310T070000
END:DAYLIGHT
BEGIN:STANDARD
TZOFFSETFROM:-0400
TZOFFSETTO:-0500
TZNAME:EST
DTSTART:20241103T060000
END:STANDARD
BEGIN:DAYLIGHT
TZOFFSETFROM:-0500
TZOFFSETTO:-0400
TZNAME:EDT
DTSTART:20250309T070000
END:DAYLIGHT
BEGIN:STANDARD
TZOFFSETFROM:-0400
TZOFFSETTO:-0500
TZNAME:EST
DTSTART:20251102T060000
END:STANDARD
BEGIN:DAYLIGHT
TZOFFSETFROM:-0500
TZOFFSETTO:-0400
TZNAME:EDT
DTSTART:20260308T070000
END:DAYLIGHT
BEGIN:STANDARD
TZOFFSETFROM:-0400
TZOFFSETTO:-0500
TZNAME:EST
DTSTART:20261101T060000
END:STANDARD
END:VTIMEZONE
BEGIN:VEVENT
DTSTART;TZID=America/New_York:20250704T140000
DTEND;TZID=America/New_York:20250704T200000
DTSTAMP:20260425T000858
CREATED:20240418T143648Z
LAST-MODIFIED:20250312T133914Z
UID:1164-1751637600-1751659200@rusticcreekfamilycampground.com
SUMMARY:Basket Raffle Donation Drop-Off
DESCRIPTION:We need your support to make our 4th of July Weekend Basket Raffle a success! There are many baskets to fill\, and we would greatly appreciate any donations or items you can contribute to help us. \nDonations will be accepted at the Campground Store from 2:00 p.m. to 8:00 p.m. \nTickets for the Basket Raffle will be available for purchase on Saturday\, 7/5 starting at 12:00 p.m. at the Pavilion. \nThis event is open to all\, and we encourage everyone to get involved and participate in this exciting opportunity to support a great cause. Your generosity makes a difference—thank you for helping us make this fundraiser a success!
URL:https://rusticcreekfamilycampground.com/event/basket-raffle-donation-drop-off-5/
LOCATION:Rustic Creek Family Campground\, 30 Vacation Lane\, Tunkhannock\, 18657\, United States
ATTACH;FMTTYPE=image/jpeg:https://rusticcreekfamilycampground.com/wp-content/uploads/2023/02/314377003_536257678508007_1829119989529867688_n.jpg
END:VEVENT
BEGIN:VEVENT
DTSTART;TZID=America/New_York:20250704T140000
DTEND;TZID=America/New_York:20250707T120000
DTSTAMP:20260425T000858
CREATED:20240418T151314Z
LAST-MODIFIED:20250310T171936Z
UID:1217-1751637600-1751889600@rusticcreekfamilycampground.com
SUMMARY:4th of July Weekend
DESCRIPTION:Celebrate Independence Day with us at Rustic Creek Family Campground! Join us for an unforgettable 4th of July Weekend Celebration\, filled with exciting events\, festive fun\, and great company. Don’t miss out on the perfect way to honor this patriotic holiday—come create lasting memories with family and friends!
URL:https://rusticcreekfamilycampground.com/event/4th-of-july-weekend/
LOCATION:Rustic Creek Family Campground\, 30 Vacation Lane\, Tunkhannock\, 18657\, United States
ATTACH;FMTTYPE=image/jpeg:https://rusticcreekfamilycampground.com/wp-content/uploads/2024/04/422354443_876880357779069_1653351147451943216_n.jpg
END:VEVENT
END:VCALENDAR